BEGIN:VCALENDAR
VERSION:2.0
PRODID:-//solaryouth.org//NONSGML kigkonsult.se iCalcreator 2.30.10//
CALSCALE:GREGORIAN
METHOD:PUBLISH
UID:21ad77c7-4f92-4006-93c2-8a3d81479b97
X-WR-CALDESC:Support Solar Youth this Giving Tuesday by hosting a FACEBOOK 
 FUNDRAISER on Tuesday\, November 27th. \n\nCreate one here: https://fb.com
 /fund/solaryouth/
X-WR-RELCALID:534f8c0d9d96fe35517e15022fb788c0
X-WR-TIMEZONE:America/New_York
BEGIN:VTIMEZONE
TZID:America/New_York
BEGIN:STANDARD
TZNAME:EST
DTSTART:20181104T020000
TZOFFSETFROM:-0400
TZOFFSETTO:-0500
RDATE:20191103T020000
END:STANDARD
BEGIN:DAYLIGHT
TZNAME:EDT
DTSTART:20180311T020000
TZOFFSETFROM:-0500
TZOFFSETTO:-0400
RDATE:20190310T020000
RDATE:20200308T020000
END:DAYLIGHT
END:VTIMEZONE
BEGIN:VEVENT
UID:8397817e-c88f-4477-b181-63f28c6c493b
DTSTAMP:20260425T201658Z
DESCRIPTION:Support Solar Youth this Giving Tuesday by hosting a FACEBOOK F
 UNDRAISER on Tuesday\, November 27th. \n\nCreate one here: https://fb.com/
 fund/solaryouth/
DTSTART;TZID=America/New_York:20181127T000000
DTEND;TZID=America/New_York:20181127T235900
LOCATION:
SUMMARY:Giving Tuesday
END:VEVENT
END:VCALENDAR
