BEGIN:VCALENDAR
VERSION:2.0
PRODID:-//solaryouth.org//NONSGML kigkonsult.se iCalcreator 2.30.10//
CALSCALE:GREGORIAN
METHOD:PUBLISH
UID:777a2926-02da-4021-99fa-16ed013dcc6d
X-WR-CALDESC:Come kick-off the season with us. Bring your family for an aft
 ernoon of fun!  There's something here for everyone to enjoy including mus
 ic\, food and fun activities!
X-WR-RELCALID:8a5bf0ff92a9d259cc91295cfaa33d46
X-WR-TIMEZONE:America/New_York
BEGIN:VTIMEZONE
TZID:America/New_York
BEGIN:STANDARD
TZNAME:EST
DTSTART:20201101T020000
TZOFFSETFROM:-0400
TZOFFSETTO:-0500
RDATE:20211107T020000
RDATE:20221106T020000
END:STANDARD
BEGIN:DAYLIGHT
TZNAME:EDT
DTSTART:20210314T020000
TZOFFSETFROM:-0500
TZOFFSETTO:-0400
RDATE:20220313T020000
RDATE:20230312T020000
END:DAYLIGHT
END:VTIMEZONE
BEGIN:VEVENT
UID:79c4a4f9-1204-4089-b475-edeff5dcb0fa
DTSTAMP:20260425T031746Z
DESCRIPTION:Come kick-off the season with us. Bring your family for an afte
 rnoon of fun!  There's something here for everyone to enjoy including musi
 c\, food and fun activities!
DTSTART;TZID=America/New_York:20210922T150000
DTEND;TZID=America/New_York:20210922T180000
LOCATION:295 Wilmot Road\, New Haven\, CT 06515 US
SUMMARY:1st Annual Community Fall Festival
END:VEVENT
END:VCALENDAR
